BEGIN:VCALENDAR
VERSION:2.0
PRODID:-//United Water Conservation District - ECPv6.15.20//NONSGML v1.0//EN
CALSCALE:GREGORIAN
METHOD:PUBLISH
X-ORIGINAL-URL:https://www.unitedwater.org
X-WR-CALDESC:Events for United Water Conservation District
REFRESH-INTERVAL;VALUE=DURATION:PT1H
X-Robots-Tag:noindex
X-PUBLISHED-TTL:PT1H
BEGIN:VTIMEZONE
TZID:UTC
BEGIN:STANDARD
TZOFFSETFROM:+0000
TZOFFSETTO:+0000
TZNAME:UTC
DTSTART:20210101T000000
END:STANDARD
END:VTIMEZONE
BEGIN:VEVENT
DTSTART;TZID=UTC:20230131T090000
DTEND;TZID=UTC:20230131T110000
DTSTAMP:20260424T024051
CREATED:20220120T023402Z
LAST-MODIFIED:20230126T021449Z
UID:2766-1675155600-1675162800@www.unitedwater.org
SUMMARY:UWCD Water Resources Committee meeting
DESCRIPTION:
URL:https://www.unitedwater.org/event/uwcd-water-resources-committee-meeting-2023-01-31/
LOCATION:UCWD Headquarters – Boardroom\, 1701 N. Lombard St. Suite 200\, Oxnard\, CA\, 93030\, United States
CATEGORIES:Committee Meeting
END:VEVENT
BEGIN:VEVENT
DTSTART;TZID=UTC:20230103T090000
DTEND;TZID=UTC:20230103T110000
DTSTAMP:20260424T024051
CREATED:20220120T023402Z
LAST-MODIFIED:20220405T021038Z
UID:2765-1672736400-1672743600@www.unitedwater.org
SUMMARY:UWCD Water Resources Committee meeting
DESCRIPTION:
URL:https://www.unitedwater.org/event/uwcd-water-resources-committee-meeting-2023-01-03/2023-01-03/
LOCATION:UCWD Headquarters – Boardroom\, 1701 N. Lombard St. Suite 200\, Oxnard\, CA\, 93030\, United States
CATEGORIES:Committee Meeting
END:VEVENT
BEGIN:VEVENT
DTSTART;TZID=UTC:20221003T090000
DTEND;TZID=UTC:20221003T100000
DTSTAMP:20260424T024051
CREATED:20220930T033646Z
LAST-MODIFIED:20220930T033646Z
UID:3247-1664787600-1664791200@www.unitedwater.org
SUMMARY:UWCD Finance and Audit Committee Meeting
DESCRIPTION:
URL:https://www.unitedwater.org/event/uwcd-finance-and-audit-committee-meeting-5/2022-10-03/
LOCATION:UCWD Headquarters – Boardroom\, 1701 N. Lombard St. Suite 200\, Oxnard\, CA\, 93030\, United States
CATEGORIES:Committee Meeting
END:VEVENT
BEGIN:VEVENT
DTSTART;TZID=UTC:20220906T103000
DTEND;TZID=UTC:20220906T113000
DTSTAMP:20260424T024051
CREATED:20220902T032231Z
LAST-MODIFIED:20220902T032231Z
UID:3197-1662460200-1662463800@www.unitedwater.org
SUMMARY:UWCD Finance and Audit Committee Meeting
DESCRIPTION:
URL:https://www.unitedwater.org/event/uwcd-finance-and-audit-committee-meeting-4/
LOCATION:UCWD Headquarters – Boardroom\, 1701 N. Lombard St. Suite 200\, Oxnard\, CA\, 93030\, United States
CATEGORIES:Committee Meeting
END:VEVENT
BEGIN:VEVENT
DTSTART;TZID=UTC:20220706T090000
DTEND;TZID=UTC:20220706T100000
DTSTAMP:20260424T024051
CREATED:20220526T034936Z
LAST-MODIFIED:20230502T013603Z
UID:2986-1657098000-1657101600@www.unitedwater.org
SUMMARY:UWCD Recreation Committee Meeting
DESCRIPTION:
URL:https://www.unitedwater.org/event/uwcd-recreation-committee-meeting-3/2022-07-06/
LOCATION:UCWD Headquarters – Boardroom\, 1701 N. Lombard St. Suite 200\, Oxnard\, CA\, 93030\, United States
CATEGORIES:Committee Meeting
END:VEVENT
BEGIN:VEVENT
DTSTART;TZID=UTC:20220705T090000
DTEND;TZID=UTC:20220705T110000
DTSTAMP:20260424T024051
CREATED:20220120T023402Z
LAST-MODIFIED:20220422T005518Z
UID:2759-1657011600-1657018800@www.unitedwater.org
SUMMARY:UWCD Water Resources Committee meeting
DESCRIPTION:
URL:https://www.unitedwater.org/event/uwcd-water-resources-committee-meeting-2022-04-05-2022-07-05/2022-07-05/
LOCATION:UCWD Headquarters – Boardroom\, 1701 N. Lombard St. Suite 200\, Oxnard\, CA\, 93030\, United States
CATEGORIES:Committee Meeting
END:VEVENT
BEGIN:VEVENT
DTSTART;TZID=UTC:20220602T090000
DTEND;TZID=UTC:20220602T110000
DTSTAMP:20260424T024051
CREATED:20220219T022534Z
LAST-MODIFIED:20220526T040518Z
UID:2778-1654160400-1654167600@www.unitedwater.org
SUMMARY:UWCD Engineering and Operations Committee Meeting
DESCRIPTION:2022-06-02 Engineering and Operations Committee AGENDA
URL:https://www.unitedwater.org/event/uwcd-engineering-and-operations-committee-meeting-2022-04-07-2022-06-02/2022-06-02/
LOCATION:UCWD Headquarters – Boardroom\, 1701 N. Lombard St. Suite 200\, Oxnard\, CA\, 93030\, United States
CATEGORIES:Committee Meeting
END:VEVENT
BEGIN:VEVENT
DTSTART;TZID=UTC:20220531T100000
DTEND;TZID=UTC:20220531T113000
DTSTAMP:20260424T024051
CREATED:20220526T034446Z
LAST-MODIFIED:20220527T071646Z
UID:2987-1653991200-1653996600@www.unitedwater.org
SUMMARY:UWCD Finance and Audit Committee Meeting
DESCRIPTION:2022-05-31 UWCD Finance and Audit Committee Meeting AGENDA Final
URL:https://www.unitedwater.org/event/uwcd-finance-and-audit-committee-meeting-3/
LOCATION:UCWD Headquarters – Boardroom\, 1701 N. Lombard St. Suite 200\, Oxnard\, CA\, 93030\, United States
CATEGORIES:Committee Meeting
END:VEVENT
BEGIN:VEVENT
DTSTART;TZID=UTC:20220531T090000
DTEND;TZID=UTC:20220531T110000
DTSTAMP:20260424T024051
CREATED:20220219T014557Z
LAST-MODIFIED:20220526T030527Z
UID:2767-1653987600-1653994800@www.unitedwater.org
SUMMARY:UWCD Water Resources Committee Meeting
DESCRIPTION:2022-05-31 Water Resources Committee Meeting Agenda
URL:https://www.unitedwater.org/event/uwcd-water-resources-committee-meeting-2/
LOCATION:UCWD Headquarters – Boardroom\, 1701 N. Lombard St. Suite 200\, Oxnard\, CA\, 93030\, United States
CATEGORIES:Committee Meeting
END:VEVENT
BEGIN:VEVENT
DTSTART;TZID=UTC:20220407T090000
DTEND;TZID=UTC:20220407T110000
DTSTAMP:20260424T024051
CREATED:20220219T022534Z
LAST-MODIFIED:20220415T231820Z
UID:2776-1649322000-1649329200@www.unitedwater.org
SUMMARY:UWCD Engineering and Operations Committee Meeting
DESCRIPTION:2022-04-07 Engineering and Operations Committee Agenda
URL:https://www.unitedwater.org/event/uwcd-engineering-and-operations-committee-meeting-2022-04-07/
LOCATION:UCWD Headquarters – Boardroom\, 1701 N. Lombard St. Suite 200\, Oxnard\, CA\, 93030\, United States
CATEGORIES:Committee Meeting
END:VEVENT
BEGIN:VEVENT
DTSTART;TZID=UTC:20220405T093000
DTEND;TZID=UTC:20220405T113000
DTSTAMP:20260424T024051
CREATED:20220405T020352Z
LAST-MODIFIED:20220405T020352Z
UID:2886-1649151000-1649158200@www.unitedwater.org
SUMMARY:UWCD Executive Committee Meeting
DESCRIPTION:
URL:https://www.unitedwater.org/event/uwcd-executive-committee-meeting-3/
LOCATION:UCWD Headquarters – Boardroom\, 1701 N. Lombard St. Suite 200\, Oxnard\, CA\, 93030\, United States
CATEGORIES:Committee Meeting
END:VEVENT
BEGIN:VEVENT
DTSTART;TZID=UTC:20220307T103000
DTEND;TZID=UTC:20220307T113000
DTSTAMP:20260424T024051
CREATED:20220304T012325Z
LAST-MODIFIED:20220304T012351Z
UID:2830-1646649000-1646652600@www.unitedwater.org
SUMMARY:UWCD Executive Committee Meeting
DESCRIPTION:2022-03-07 Executive Committee Agenda
URL:https://www.unitedwater.org/event/https-www-unitedwater-org-wp-content-uploads-2022-03-2022-03-07-executive-committee-agenda-pdf/
LOCATION:UCWD Headquarters – Boardroom\, 1701 N. Lombard St. Suite 200\, Oxnard\, CA\, 93030\, United States
CATEGORIES:Committee Meeting
END:VEVENT
BEGIN:VEVENT
DTSTART;TZID=UTC:20220301T090000
DTEND;TZID=UTC:20220301T110000
DTSTAMP:20260424T024051
CREATED:20220120T023402Z
LAST-MODIFIED:20220225T075819Z
UID:2598-1646125200-1646132400@www.unitedwater.org
SUMMARY:UWCD Water Resources Committee meeting
DESCRIPTION:2022-03-01 Water Resources Committee Meeting Agenda
URL:https://www.unitedwater.org/event/uwcd-water-resources-committee-meeting/
LOCATION:UCWD Headquarters – Boardroom\, 1701 N. Lombard St. Suite 200\, Oxnard\, CA\, 93030\, United States
CATEGORIES:Committee Meeting
END:VEVENT
BEGIN:VEVENT
DTSTART;TZID=UTC:20220228T090000
DTEND;TZID=UTC:20220228T103000
DTSTAMP:20260424T024051
CREATED:20220226T005112Z
LAST-MODIFIED:20220226T005429Z
UID:2804-1646038800-1646044200@www.unitedwater.org
SUMMARY:UWCD Finance and Audit Committee Meeting
DESCRIPTION:2022-02-28 UWCD Finance and Audit Committee Meeting AGENDA Final
URL:https://www.unitedwater.org/event/uwcd-finance-and-audit-committee-meeting-2/
LOCATION:UCWD Headquarters – Boardroom\, 1701 N. Lombard St. Suite 200\, Oxnard\, CA\, 93030\, United States
CATEGORIES:Committee Meeting
END:VEVENT
BEGIN:VEVENT
DTSTART;TZID=UTC:20220208T090000
DTEND;TZID=UTC:20220208T103000
DTSTAMP:20260424T024051
CREATED:20220120T024147Z
LAST-MODIFIED:20220120T024147Z
UID:2604-1644310800-1644316200@www.unitedwater.org
SUMMARY:UWCD Finance and Audit Committee meeting
DESCRIPTION:
URL:https://www.unitedwater.org/event/uwcd-finance-and-audit-committee-meeting/
LOCATION:UCWD Headquarters – Boardroom\, 1701 N. Lombard St. Suite 200\, Oxnard\, CA\, 93030\, United States
CATEGORIES:Committee Meeting
END:VEVENT
BEGIN:VEVENT
DTSTART;TZID=UTC:20220202T090000
DTEND;TZID=UTC:20220202T103000
DTSTAMP:20260424T024051
CREATED:20220120T024619Z
LAST-MODIFIED:20220120T033332Z
UID:2606-1643792400-1643797800@www.unitedwater.org
SUMMARY:UWCD Recreation Committee meeting
DESCRIPTION:
URL:https://www.unitedwater.org/event/uwcd-recreation-committee-meeting/
LOCATION:UCWD Headquarters – Boardroom\, 1701 N. Lombard St. Suite 200\, Oxnard\, CA\, 93030\, United States
CATEGORIES:Committee Meeting
END:VEVENT
BEGIN:VEVENT
DTSTART;TZID=UTC:20220201T130000
DTEND;TZID=UTC:20220201T143000
DTSTAMP:20260424T024051
CREATED:20220126T051838Z
LAST-MODIFIED:20220126T052046Z
UID:2627-1643720400-1643725800@www.unitedwater.org
SUMMARY:UWCD Executive Committee meeting
DESCRIPTION:2022-02-01 Executive Committee Agenda FINAL
URL:https://www.unitedwater.org/event/uwcd-executive-committee-meeting-2/
LOCATION:UCWD Headquarters – Boardroom\, 1701 N. Lombard St. Suite 200\, Oxnard\, CA\, 93030\, United States
CATEGORIES:Committee Meeting
END:VEVENT
BEGIN:VEVENT
DTSTART;TZID=UTC:20220201T130000
DTEND;TZID=UTC:20220201T143000
DTSTAMP:20260424T024051
CREATED:20220126T051135Z
LAST-MODIFIED:20220126T051143Z
UID:2623-1643720400-1643725800@www.unitedwater.org
SUMMARY:UWCD Executive Committee meeting
DESCRIPTION:
URL:https://www.unitedwater.org/event/uwcd-executive-committee-meeting/
LOCATION:UCWD Headquarters – Boardroom\, 1701 N. Lombard St. Suite 200\, Oxnard\, CA\, 93030\, United States
CATEGORIES:Committee Meeting
END:VEVENT
END:VCALENDAR