BEGIN:VCALENDAR
VERSION:2.0
PRODID:-//United Water Conservation District - ECPv6.15.18//NONSGML v1.0//EN
CALSCALE:GREGORIAN
METHOD:PUBLISH
X-ORIGINAL-URL:https://www.unitedwater.org
X-WR-CALDESC:Events for United Water Conservation District
REFRESH-INTERVAL;VALUE=DURATION:PT1H
X-Robots-Tag:noindex
X-PUBLISHED-TTL:PT1H
BEGIN:VTIMEZONE
TZID:UTC
BEGIN:STANDARD
TZOFFSETFROM:+0000
TZOFFSETTO:+0000
TZNAME:UTC
DTSTART:20220101T000000
END:STANDARD
END:VTIMEZONE
BEGIN:VEVENT
DTSTART;TZID=UTC:20230227T090000
DTEND;TZID=UTC:20230227T100000
DTSTAMP:20260422T015645
CREATED:20230210T025557Z
LAST-MODIFIED:20230210T025557Z
UID:3597-1677488400-1677492000@www.unitedwater.org
SUMMARY:UWCD Finance and Audit Committee Meeting
DESCRIPTION:
URL:https://www.unitedwater.org/event/uwcd-finance-and-audit-committee-meeting-6/2023-02-27/
LOCATION:UCWD Headquarters – Boardroom\, 1701 N. Lombard St. Suite 200\, Oxnard\, CA\, 93030\, United States
END:VEVENT
END:VCALENDAR